BEGIN:VCALENDAR
VERSION:2.0
PRODID:-//hacksw/handcal//NONSGML v1.0//EN
BEGIN:VEVENT
SUMMARY:TIR A L'OISEAU 2026
UID:0c2f3123-8505-4a46-870d-ae7fe27495eb
DTSTART:20260405T220000Z
DTEND:20260406T220000Z
LOCATION:Localisation   
CATEGORIES:Sportif
STATUS:
URL;VALUE=URI:https://archersvaldebresle.sportsregions.fr/evenements/2026/04/06/tir-a-loiseau-2026-2440683
END:VEVENT
END:VCALENDAR
