BEGIN:VCALENDAR
VERSION:2.0
PRODID:-//hacksw/handcal//NONSGML v1.0//EN
BEGIN:VEVENT
SUMMARY:Tir Nature Preaux
UID:2bec436c-8e12-4754-8e17-ac2a7b225645
DTSTART:20260418T220000Z
DTEND:20260419T220000Z
LOCATION:Localisation   
CATEGORIES:Sportif
STATUS:
URL;VALUE=URI:https://archersvaldebresle.sportsregions.fr/evenements/2026/04/19/tir-nature-preaux-2436246
END:VEVENT
END:VCALENDAR
