BEGIN:VCALENDAR
VERSION:2.0
PRODID:-//hacksw/handcal//NONSGML v1.0//EN
BEGIN:VEVENT
SUMMARY:TIR NATURE PREAUX
UID:b089de9f-3888-4124-b6de-9d7de4f64d0e
DTSTART:20260418T220000Z
DTEND:20260419T220000Z
LOCATION:Localisation   
CATEGORIES:Sportif
STATUS:
DESCRIPTION:<p><a
 href="https://admin.sportsregions.fr/media/uploaded/sites/13643/kcupload/files/Mandatconcoursnature20260419.pdf"
 target="_blank" rel="noreferrer noopener">Mandat</a></p>
 
 <p> </p>
URL;VALUE=URI:https://archersvaldebresle.sportsregions.fr/evenements/2026/04/19/tir-nature-preaux-2436248
END:VEVENT
END:VCALENDAR
