BEGIN:VCALENDAR
VERSION:2.0
PRODID:-//hacksw/handcal//NONSGML v1.0//EN
BEGIN:VEVENT
SUMMARY:TIR NATURE YVETOT
UID:947d65ce-9cfa-4735-93b6-6c6933e22237
DTSTART:20260425T220000Z
DTEND:20260426T220000Z
LOCATION:Localisation   
CATEGORIES:Sportif
STATUS:
DESCRIPTION:<p><a
 href="https://admin.sportsregions.fr/media/uploaded/sites/13643/kcupload/files/Mandat%20tir%20nature%20Yvetot%2026042026.pdf"
 target="_blank" rel="noreferrer noopener">Mandat</a></p>
URL;VALUE=URI:https://archersvaldebresle.sportsregions.fr/evenements/2026/04/26/tir-nature-yvetot-2443061
END:VEVENT
END:VCALENDAR
